Package: RNAAgeCalc Version: 1.16.0 Command: /Library/Frameworks/R.framework/Resources/bin/R CMD check --install=check:RNAAgeCalc.install-out.txt --library=/Library/Frameworks/R.framework/Resources/library --no-vignettes --timings RNAAgeCalc_1.16.0.tar.gz StartedAt: 2024-06-09 22:39:14 -0400 (Sun, 09 Jun 2024) EndedAt: 2024-06-09 22:45:21 -0400 (Sun, 09 Jun 2024) EllapsedTime: 366.9 seconds RetCode: 0 Status: OK CheckDir: RNAAgeCalc.Rcheck Warnings: 0