Package: RNAAgeCalc Version: 1.16.0 Maintainer: Xu Ren MaintainerEmail: xuren2120 at gmail.com git_url: https://git.bioconductor.org/packages/RNAAgeCalc git_branch: RELEASE_3_19 git_last_commit: 1ea37c0 git_last_commit_date: 2024-04-30 11:21:41 -0400 (Tue, 30 Apr 2024)