Package: RLassoCox Version: 1.12.0 Command: chmod a+r RLassoCox -R && F:\biocbuild\bbs-3.19-bioc\R\bin\R.exe CMD build --keep-empty-dirs --no-resave-data RLassoCox StartedAt: 2024-06-26 21:25:46 -0400 (Wed, 26 Jun 2024) EndedAt: 2024-06-26 21:27:44 -0400 (Wed, 26 Jun 2024) EllapsedTime: 117.6 seconds RetCode: 0 Status: OK PackageFile: RLassoCox_1.12.0.tar.gz PackageFileSize: 1.967 MiB