Package: RLassoCox Version: 1.12.0 Command: /home/biocbuild/bbs-3.19-bioc/R/bin/R CMD build --keep-empty-dirs --no-resave-data RLassoCox StartedAt: 2024-10-16 20:27:59 -0400 (Wed, 16 Oct 2024) EndedAt: 2024-10-16 20:29:18 -0400 (Wed, 16 Oct 2024) EllapsedTime: 79.1 seconds RetCode: 0 Status: OK PackageFile: RLassoCox_1.12.0.tar.gz PackageFileSize: 2.005 MiB