Package: RLassoCox Version: 1.12.0 Command: /Library/Frameworks/R.framework/Resources/bin/R CMD check --install=check:RLassoCox.install-out.txt --library=/Library/Frameworks/R.framework/Resources/library --no-vignettes --timings RLassoCox_1.12.0.tar.gz StartedAt: 2024-10-18 09:49:49 -0400 (Fri, 18 Oct 2024) EndedAt: 2024-10-18 09:54:26 -0400 (Fri, 18 Oct 2024) EllapsedTime: 277.1 seconds RetCode: 0 Status: OK CheckDir: RLassoCox.Rcheck Warnings: 0