Package: RLSeq Version: 1.10.0 Command: rm -rf RLSeq.buildbin-libdir && mkdir RLSeq.buildbin-libdir && E:\biocbuild\bbs-3.19-bioc\R\bin\R.exe CMD INSTALL --build --library=RLSeq.buildbin-libdir RLSeq_1.10.0.tar.gz StartedAt: 2024-08-15 08:52:05 -0400 (Thu, 15 Aug 2024) EndedAt: 2024-08-15 08:53:21 -0400 (Thu, 15 Aug 2024) EllapsedTime: 76.2 seconds RetCode: 0 Status: OK PackageFile: RLSeq_1.10.0.zip PackageFileSize: 2.869 MiB