Package: RLSeq Version: 1.10.0 Command: /home/biocbuild/bbs-3.19-bioc/R/bin/R CMD INSTALL RLSeq StartedAt: 2024-10-16 16:35:32 -0400 (Wed, 16 Oct 2024) EndedAt: 2024-10-16 16:36:20 -0400 (Wed, 16 Oct 2024) EllapsedTime: 47.3 seconds RetCode: 0 Status: OK