Package: RLSeq Version: 1.10.0 Command: /home/biocbuild/bbs-3.19-bioc/R/bin/R CMD build --keep-empty-dirs --no-resave-data RLSeq StartedAt: 2024-10-16 20:28:28 -0400 (Wed, 16 Oct 2024) EndedAt: 2024-10-16 20:30:41 -0400 (Wed, 16 Oct 2024) EllapsedTime: 132.4 seconds RetCode: 1 Status: ERROR PackageFile: None PackageFileSize: NA