Package: RLSeq Version: 1.10.0 Command: /Library/Frameworks/R.framework/Resources/bin/R CMD INSTALL RLSeq StartedAt: 2024-10-16 16:30:36 -0400 (Wed, 16 Oct 2024) EndedAt: 2024-10-16 16:32:23 -0400 (Wed, 16 Oct 2024) EllapsedTime: 106.6 seconds RetCode: 0 Status: OK