Package: RLMM Version: 1.66.0 Command: chmod a+r RLMM -R && E:\biocbuild\bbs-3.19-bioc\R\bin\R.exe CMD build --keep-empty-dirs --no-resave-data RLMM StartedAt: 2024-10-16 21:32:45 -0400 (Wed, 16 Oct 2024) EndedAt: 2024-10-16 21:33:02 -0400 (Wed, 16 Oct 2024) EllapsedTime: 16.5 seconds RetCode: 0 Status: OK PackageFile: RLMM_1.66.0.tar.gz PackageFileSize: 230.7 KiB