Package: RLMM Version: 1.66.0 Command: rm -rf RLMM.buildbin-libdir && mkdir RLMM.buildbin-libdir && F:\biocbuild\bbs-3.19-bioc\R\bin\R.exe CMD INSTALL --build --library=RLMM.buildbin-libdir RLMM_1.66.0.tar.gz StartedAt: 2024-06-27 08:47:59 -0400 (Thu, 27 Jun 2024) EndedAt: 2024-06-27 08:48:03 -0400 (Thu, 27 Jun 2024) EllapsedTime: 4.1 seconds RetCode: 0 Status: OK PackageFile: RLMM_1.66.0.zip PackageFileSize: 186.3 KiB