Package: RLMM Version: 1.66.0 Command: /home/biocbuild/bbs-3.19-bioc/R/bin/R CMD build --keep-empty-dirs --no-resave-data RLMM StartedAt: 2024-10-16 20:28:23 -0400 (Wed, 16 Oct 2024) EndedAt: 2024-10-16 20:28:28 -0400 (Wed, 16 Oct 2024) EllapsedTime: 5.0 seconds RetCode: 0 Status: OK PackageFile: RLMM_1.66.0.tar.gz PackageFileSize: 229.7 KiB