Package: RLMM Version: 1.66.0 Maintainer: Nusrat Rabbee MaintainerEmail: nrabbee at post.harvard.edu git_url: https://git.bioconductor.org/packages/RLMM git_branch: RELEASE_3_19 git_last_commit: 45e5b88 git_last_commit_date: 2024-04-30 10:14:39 -0400 (Tue, 30 Apr 2024)