Package: RJMCMCNucleosomes Version: 1.28.0 Command: rm -rf RJMCMCNucleosomes.buildbin-libdir && mkdir RJMCMCNucleosomes.buildbin-libdir && F:\biocbuild\bbs-3.19-bioc\R\bin\R.exe CMD INSTALL --build --library=RJMCMCNucleosomes.buildbin-libdir RJMCMCNucleosomes_1.28.0.tar.gz StartedAt: 2024-06-27 08:47:55 -0400 (Thu, 27 Jun 2024) EndedAt: 2024-06-27 08:49:19 -0400 (Thu, 27 Jun 2024) EllapsedTime: 84.3 seconds RetCode: 0 Status: OK PackageFile: RJMCMCNucleosomes_1.28.0.zip PackageFileSize: 1.029 MiB