Package: RJMCMCNucleosomes Version: 1.28.0 Command: /Library/Frameworks/R.framework/Resources/bin/R CMD INSTALL RJMCMCNucleosomes StartedAt: 2024-10-16 15:37:45 -0400 (Wed, 16 Oct 2024) EndedAt: 2024-10-16 15:39:28 -0400 (Wed, 16 Oct 2024) EllapsedTime: 103.2 seconds RetCode: 0 Status: OK