Package: RJMCMCNucleosomes Version: 1.28.0 Command: /home/biocbuild/R/R-beta-2024-04-15_r86425/bin/R CMD build --keep-empty-dirs --no-resave-data RJMCMCNucleosomes StartedAt: 2024-05-09 03:03:40 -0000 (Thu, 09 May 2024) EndedAt: 2024-05-09 03:05:46 -0000 (Thu, 09 May 2024) EllapsedTime: 126.2 seconds RetCode: 0 Status: OK PackageFile: RJMCMCNucleosomes_1.28.0.tar.gz PackageFileSize: 685 KiB