Package: RJMCMCNucleosomes Version: 1.28.0 Command: /Library/Frameworks/R.framework/Resources/bin/R CMD build --keep-empty-dirs --no-resave-data RJMCMCNucleosomes StartedAt: 2024-10-17 07:44:18 -0400 (Thu, 17 Oct 2024) EndedAt: 2024-10-17 07:45:49 -0400 (Thu, 17 Oct 2024) EllapsedTime: 90.9 seconds RetCode: 0 Status: OK PackageFile: RJMCMCNucleosomes_1.28.0.tar.gz PackageFileSize: 721.9 KiB