Package: RImmPort Version: 1.32.0 Command: /Library/Frameworks/R.framework/Resources/bin/R CMD INSTALL RImmPort StartedAt: 2024-10-16 15:26:11 -0400 (Wed, 16 Oct 2024) EndedAt: 2024-10-16 15:26:30 -0400 (Wed, 16 Oct 2024) EllapsedTime: 19.5 seconds RetCode: 0 Status: OK