Package: RImmPort Version: 1.32.0 Command: /Library/Frameworks/R.framework/Resources/bin/R CMD check --install=check:RImmPort.install-out.txt --library=/Library/Frameworks/R.framework/Resources/library --no-vignettes --timings RImmPort_1.32.0.tar.gz StartedAt: 2024-10-17 11:57:10 -0400 (Thu, 17 Oct 2024) EndedAt: 2024-10-17 11:59:05 -0400 (Thu, 17 Oct 2024) EllapsedTime: 115.1 seconds RetCode: 0 Status: OK CheckDir: RImmPort.Rcheck Warnings: 0