Package: RIVER Version: 1.28.0 Command: rm -rf RIVER.buildbin-libdir && mkdir RIVER.buildbin-libdir && E:\biocbuild\bbs-3.19-bioc\R\bin\R.exe CMD INSTALL --build --library=RIVER.buildbin-libdir RIVER_1.28.0.tar.gz StartedAt: 2024-10-17 08:30:21 -0400 (Thu, 17 Oct 2024) EndedAt: 2024-10-17 08:30:35 -0400 (Thu, 17 Oct 2024) EllapsedTime: 13.9 seconds RetCode: 0 Status: OK PackageFile: RIVER_1.28.0.zip PackageFileSize: 1.291 MiB