Package: RIVER Version: 1.28.0 Command: /home/biocbuild/bbs-3.19-bioc/R/bin/R CMD check --install=check:RIVER.install-out.txt --library=/home/biocbuild/bbs-3.19-bioc/R/site-library --timings RIVER_1.28.0.tar.gz StartedAt: 2024-10-17 04:25:02 -0400 (Thu, 17 Oct 2024) EndedAt: 2024-10-17 04:26:28 -0400 (Thu, 17 Oct 2024) EllapsedTime: 86.2 seconds RetCode: 0 Status: OK CheckDir: RIVER.Rcheck Warnings: 0