Package: RIVER Version: 1.28.0 Command: /Library/Frameworks/R.framework/Resources/bin/R CMD build --keep-empty-dirs --no-resave-data RIVER StartedAt: 2024-10-16 22:37:14 -0400 (Wed, 16 Oct 2024) EndedAt: 2024-10-16 22:38:08 -0400 (Wed, 16 Oct 2024) EllapsedTime: 54.6 seconds RetCode: 0 Status: OK PackageFile: RIVER_1.28.0.tar.gz PackageFileSize: 1.472 MiB