Package: RIVER Version: 1.28.0 Command: /Library/Frameworks/R.framework/Resources/bin/R CMD INSTALL RIVER StartedAt: 2024-10-16 18:01:52 -0400 (Wed, 16 Oct 2024) EndedAt: 2024-10-16 18:02:03 -0400 (Wed, 16 Oct 2024) EllapsedTime: 10.5 seconds RetCode: 0 Status: OK