Package: RIVER Version: 1.28.0 Command: /Library/Frameworks/R.framework/Resources/bin/R CMD check --install=check:RIVER.install-out.txt --library=/Library/Frameworks/R.framework/Resources/library --no-vignettes --timings RIVER_1.28.0.tar.gz StartedAt: 2024-10-18 09:47:25 -0400 (Fri, 18 Oct 2024) EndedAt: 2024-10-18 09:49:11 -0400 (Fri, 18 Oct 2024) EllapsedTime: 105.7 seconds RetCode: 0 Status: OK CheckDir: RIVER.Rcheck Warnings: 0