Package: RIVER Version: 1.28.0 Command: rm -rf RIVER.buildbin-libdir && mkdir RIVER.buildbin-libdir && /Users/biocbuild/BBS/utils/build-universal.sh RIVER_1.28.0.tar.gz /Library/Frameworks/R.framework/Resources/bin/R RIVER.buildbin-libdir StartedAt: 2024-10-18 20:21:31 -0400 (Fri, 18 Oct 2024) EndedAt: 2024-10-18 20:21:45 -0400 (Fri, 18 Oct 2024) EllapsedTime: 13.7 seconds RetCode: 0 Status: OK PackageFile: RIVER_1.28.0.tgz PackageFileSize: 1.687 MiB