Package: RITAN Version: 1.28.0 Command: E:\biocbuild\bbs-3.19-bioc\R\bin\R.exe CMD INSTALL RITAN StartedAt: 2024-10-16 16:36:36 -0400 (Wed, 16 Oct 2024) EndedAt: 2024-10-16 16:37:26 -0400 (Wed, 16 Oct 2024) EllapsedTime: 50.6 seconds RetCode: 0 Status: OK