Package: RITAN Version: 1.28.0 Command: rm -rf RITAN.buildbin-libdir && mkdir RITAN.buildbin-libdir && F:\biocbuild\bbs-3.19-bioc\R\bin\R.exe CMD INSTALL --build --library=RITAN.buildbin-libdir RITAN_1.28.0.tar.gz StartedAt: 2024-06-27 08:47:50 -0400 (Thu, 27 Jun 2024) EndedAt: 2024-06-27 08:48:51 -0400 (Thu, 27 Jun 2024) EllapsedTime: 60.7 seconds RetCode: 0 Status: OK PackageFile: RITAN_1.28.0.zip PackageFileSize: 457.7 KiB