Package: RITAN Version: 1.28.0 Command: rm -rf RITAN.buildbin-libdir && mkdir RITAN.buildbin-libdir && /Users/biocbuild/BBS/utils/build-universal.sh RITAN_1.28.0.tar.gz /Library/Frameworks/R.framework/Resources/bin/R RITAN.buildbin-libdir StartedAt: 2024-10-17 17:00:42 -0400 (Thu, 17 Oct 2024) EndedAt: 2024-10-17 17:02:25 -0400 (Thu, 17 Oct 2024) EllapsedTime: 103.2 seconds RetCode: 0 Status: OK PackageFile: RITAN_1.28.0.tgz PackageFileSize: 970.9 KiB