Package: RIPAT Version: 1.14.0 Command: E:\biocbuild\bbs-3.19-bioc\R\bin\R.exe CMD INSTALL RIPAT StartedAt: 2024-10-16 17:16:08 -0400 (Wed, 16 Oct 2024) EndedAt: 2024-10-16 17:16:18 -0400 (Wed, 16 Oct 2024) EllapsedTime: 9.5 seconds RetCode: 0 Status: OK