Package: RIPAT Version: 1.14.0 Command: /home/biocbuild/bbs-3.19-bioc/R/bin/R CMD build --keep-empty-dirs --no-resave-data RIPAT StartedAt: 2024-10-16 20:27:17 -0400 (Wed, 16 Oct 2024) EndedAt: 2024-10-16 20:39:15 -0400 (Wed, 16 Oct 2024) EllapsedTime: 717.8 seconds RetCode: 0 Status: OK PackageFile: RIPAT_1.14.0.tar.gz PackageFileSize: 4.258 MiB