Package: RIPAT Version: 1.14.0 Command: /Library/Frameworks/R.framework/Resources/bin/R CMD build --keep-empty-dirs --no-resave-data RIPAT StartedAt: 2024-10-16 22:36:59 -0400 (Wed, 16 Oct 2024) EndedAt: 2024-10-16 22:59:23 -0400 (Wed, 16 Oct 2024) EllapsedTime: 1344.1 seconds RetCode: 0 Status: OK PackageFile: RIPAT_1.14.0.tar.gz PackageFileSize: 4.416 MiB