Package: RGraph2js Version: 1.32.0 Command: E:\biocbuild\bbs-3.19-bioc\R\bin\R.exe CMD INSTALL RGraph2js StartedAt: 2024-10-16 16:34:41 -0400 (Wed, 16 Oct 2024) EndedAt: 2024-10-16 16:34:54 -0400 (Wed, 16 Oct 2024) EllapsedTime: 13.2 seconds RetCode: 0 Status: OK