Package: RGraph2js Version: 1.32.0 Command: chmod a+r RGraph2js -R && E:\biocbuild\bbs-3.19-bioc\R\bin\R.exe CMD build --keep-empty-dirs --no-resave-data RGraph2js StartedAt: 2024-10-16 21:29:58 -0400 (Wed, 16 Oct 2024) EndedAt: 2024-10-16 21:30:29 -0400 (Wed, 16 Oct 2024) EllapsedTime: 31.2 seconds RetCode: 0 Status: OK PackageFile: RGraph2js_1.32.0.tar.gz PackageFileSize: 2.348 MiB