Package: RGraph2js Version: 1.32.0 Command: F:\biocbuild\bbs-3.19-bioc\R\bin\R.exe CMD check --no-multiarch --install=check:RGraph2js.install-out.txt --library=F:\biocbuild\bbs-3.19-bioc\R\library --no-vignettes --timings RGraph2js_1.32.0.tar.gz StartedAt: 2024-06-27 05:22:00 -0400 (Thu, 27 Jun 2024) EndedAt: 2024-06-27 05:22:45 -0400 (Thu, 27 Jun 2024) EllapsedTime: 45.1 seconds RetCode: 0 Status: OK CheckDir: RGraph2js.Rcheck Warnings: 0