Package: RGraph2js Version: 1.32.0 Command: chmod a+r RGraph2js -R && F:\biocbuild\bbs-3.19-bioc\R\bin\R.exe CMD build --keep-empty-dirs --no-resave-data RGraph2js StartedAt: 2024-06-26 21:22:25 -0400 (Wed, 26 Jun 2024) EndedAt: 2024-06-26 21:22:46 -0400 (Wed, 26 Jun 2024) EllapsedTime: 20.9 seconds RetCode: 0 Status: OK PackageFile: RGraph2js_1.32.0.tar.gz PackageFileSize: 2.348 MiB