Package: RGraph2js Version: 1.32.0 Command: rm -rf RGraph2js.buildbin-libdir && mkdir RGraph2js.buildbin-libdir && F:\biocbuild\bbs-3.19-bioc\R\bin\R.exe CMD INSTALL --build --library=RGraph2js.buildbin-libdir RGraph2js_1.32.0.tar.gz StartedAt: 2024-06-27 08:46:57 -0400 (Thu, 27 Jun 2024) EndedAt: 2024-06-27 08:47:08 -0400 (Thu, 27 Jun 2024) EllapsedTime: 11.2 seconds RetCode: 0 Status: OK PackageFile: RGraph2js_1.32.0.zip PackageFileSize: 1.503 MiB