Package: RGraph2js Version: 1.32.0 Command: /home/biocbuild/bbs-3.19-bioc/R/bin/R CMD build --keep-empty-dirs --no-resave-data RGraph2js StartedAt: 2024-10-16 20:25:17 -0400 (Wed, 16 Oct 2024) EndedAt: 2024-10-16 20:25:27 -0400 (Wed, 16 Oct 2024) EllapsedTime: 10.0 seconds RetCode: 0 Status: OK PackageFile: RGraph2js_1.32.0.tar.gz PackageFileSize: 2.344 MiB