Package: RGraph2js Version: 1.32.0 Command: /Library/Frameworks/R.framework/Resources/bin/R CMD INSTALL RGraph2js StartedAt: 2024-06-09 16:00:38 -0400 (Sun, 09 Jun 2024) EndedAt: 2024-06-09 16:00:44 -0400 (Sun, 09 Jun 2024) EllapsedTime: 5.9 seconds RetCode: 0 Status: OK