Package: RGraph2js Version: 1.32.0 Command: /Library/Frameworks/R.framework/Resources/bin/R CMD build --keep-empty-dirs --no-resave-data RGraph2js StartedAt: 2024-06-10 03:23:52 -0400 (Mon, 10 Jun 2024) EndedAt: 2024-06-10 03:24:15 -0400 (Mon, 10 Jun 2024) EllapsedTime: 23.0 seconds RetCode: 0 Status: OK PackageFile: RGraph2js_1.32.0.tar.gz PackageFileSize: 2.343 MiB