Package: RGraph2js Version: 1.32.0 Command: rm -rf RGraph2js.buildbin-libdir && mkdir RGraph2js.buildbin-libdir && /Users/biocbuild/BBS/utils/build-universal.sh RGraph2js_1.32.0.tar.gz /Library/Frameworks/R.framework/Resources/bin/R RGraph2js.buildbin-libdir StartedAt: 2024-10-18 20:15:32 -0400 (Fri, 18 Oct 2024) EndedAt: 2024-10-18 20:15:39 -0400 (Fri, 18 Oct 2024) EllapsedTime: 6.8 seconds RetCode: 0 Status: OK PackageFile: RGraph2js_1.32.0.tgz PackageFileSize: 1.496 MiB