Package: RGSEA Version: 1.38.0 Command: chmod a+r RGSEA -R && E:\biocbuild\bbs-3.19-bioc\R\bin\R.exe CMD build --keep-empty-dirs --no-resave-data RGSEA StartedAt: 2024-10-16 21:30:03 -0400 (Wed, 16 Oct 2024) EndedAt: 2024-10-16 21:30:48 -0400 (Wed, 16 Oct 2024) EllapsedTime: 45.0 seconds RetCode: 0 Status: OK PackageFile: RGSEA_1.38.0.tar.gz PackageFileSize: 1.724 MiB