Package: RGSEA Version: 1.38.0 Command: rm -rf RGSEA.buildbin-libdir && mkdir RGSEA.buildbin-libdir && E:\biocbuild\bbs-3.19-bioc\R\bin\R.exe CMD INSTALL --build --library=RGSEA.buildbin-libdir RGSEA_1.38.0.tar.gz StartedAt: 2024-10-17 08:29:04 -0400 (Thu, 17 Oct 2024) EndedAt: 2024-10-17 08:29:13 -0400 (Thu, 17 Oct 2024) EllapsedTime: 9.4 seconds RetCode: 0 Status: OK PackageFile: RGSEA_1.38.0.zip PackageFileSize: 1.753 MiB