Package: RGMQL Version: 1.24.0 Command: chmod a+r RGMQL -R && F:\biocbuild\bbs-3.19-bioc\R\bin\R.exe CMD build --keep-empty-dirs --no-resave-data RGMQL StartedAt: 2024-06-26 21:22:10 -0400 (Wed, 26 Jun 2024) EndedAt: 2024-06-26 21:25:04 -0400 (Wed, 26 Jun 2024) EllapsedTime: 173.1 seconds RetCode: 0 Status: OK PackageFile: RGMQL_1.24.0.tar.gz PackageFileSize: 32.61 MiB