Package: RESOLVE Version: 1.6.0 Command: chmod a+r RESOLVE -R && E:\biocbuild\bbs-3.19-bioc\R\bin\R.exe CMD build --keep-empty-dirs --no-resave-data RESOLVE StartedAt: 2024-10-16 21:28:40 -0400 (Wed, 16 Oct 2024) EndedAt: 2024-10-16 21:30:02 -0400 (Wed, 16 Oct 2024) EllapsedTime: 81.6 seconds RetCode: 0 Status: OK PackageFile: RESOLVE_1.6.0.tar.gz PackageFileSize: 717.5 KiB