Package: RESOLVE Version: 1.6.0 Command: rm -rf RESOLVE.buildbin-libdir && mkdir RESOLVE.buildbin-libdir && F:\biocbuild\bbs-3.19-bioc\R\bin\R.exe CMD INSTALL --build --library=RESOLVE.buildbin-libdir RESOLVE_1.6.0.tar.gz StartedAt: 2024-06-27 08:46:25 -0400 (Thu, 27 Jun 2024) EndedAt: 2024-06-27 08:47:28 -0400 (Thu, 27 Jun 2024) EllapsedTime: 62.7 seconds RetCode: 0 Status: OK PackageFile: RESOLVE_1.6.0.zip PackageFileSize: 873.3 KiB