Package: RESOLVE Version: 1.6.0 Command: /Library/Frameworks/R.framework/Resources/bin/R CMD check --install=check:RESOLVE.install-out.txt --library=/Library/Frameworks/R.framework/Resources/library --no-vignettes --timings RESOLVE_1.6.0.tar.gz StartedAt: 2024-10-17 11:44:07 -0400 (Thu, 17 Oct 2024) EndedAt: 2024-10-17 12:08:32 -0400 (Thu, 17 Oct 2024) EllapsedTime: 1464.6 seconds RetCode: 0 Status: OK CheckDir: RESOLVE.Rcheck Warnings: 0