Package: RESOLVE Version: 1.6.0 Command: rm -rf RESOLVE.buildbin-libdir && mkdir RESOLVE.buildbin-libdir && /Users/biocbuild/BBS/utils/build-universal.sh RESOLVE_1.6.0.tar.gz /Library/Frameworks/R.framework/Resources/bin/R RESOLVE.buildbin-libdir StartedAt: 2024-10-17 16:58:26 -0400 (Thu, 17 Oct 2024) EndedAt: 2024-10-17 17:00:01 -0400 (Thu, 17 Oct 2024) EllapsedTime: 95.1 seconds RetCode: 0 Status: OK PackageFile: RESOLVE_1.6.0.tgz PackageFileSize: 886.3 KiB