Package: RESOLVE Version: 1.6.0 Command: /Library/Frameworks/R.framework/Resources/bin/R CMD check --install=check:RESOLVE.install-out.txt --library=/Library/Frameworks/R.framework/Resources/library --no-vignettes --timings RESOLVE_1.6.0.tar.gz StartedAt: 2024-06-09 22:32:37 -0400 (Sun, 09 Jun 2024) EndedAt: 2024-06-09 22:47:13 -0400 (Sun, 09 Jun 2024) EllapsedTime: 875.7 seconds RetCode: 0 Status: OK CheckDir: RESOLVE.Rcheck Warnings: 0