Package: REMP Version: 1.28.0 Command: E:\biocbuild\bbs-3.19-bioc\R\bin\R.exe CMD INSTALL REMP StartedAt: 2024-10-16 17:16:51 -0400 (Wed, 16 Oct 2024) EndedAt: 2024-10-16 17:18:03 -0400 (Wed, 16 Oct 2024) EllapsedTime: 72.3 seconds RetCode: 0 Status: OK