Package: REMP Version: 1.28.0 Command: rm -rf REMP.buildbin-libdir && mkdir REMP.buildbin-libdir && E:\biocbuild\bbs-3.19-bioc\R\bin\R.exe CMD INSTALL --build --library=REMP.buildbin-libdir REMP_1.28.0.tar.gz StartedAt: 2024-10-17 08:28:10 -0400 (Thu, 17 Oct 2024) EndedAt: 2024-10-17 08:29:25 -0400 (Thu, 17 Oct 2024) EllapsedTime: 74.9 seconds RetCode: 0 Status: OK PackageFile: REMP_1.28.0.zip PackageFileSize: 692.3 KiB